Package: rmelting Version: 1.23.0 Command: /Library/Frameworks/R.framework/Resources/bin/R CMD build --keep-empty-dirs --no-resave-data rmelting StartedAt: 2025-02-19 18:01:05 -0500 (Wed, 19 Feb 2025) EndedAt: 2025-02-19 18:01:44 -0500 (Wed, 19 Feb 2025) EllapsedTime: 38.9 seconds RetCode: 0 Status: OK PackageFile: rmelting_1.23.0.tar.gz PackageFileSize: 2.491 MiB