Package: rmelting Version: 1.23.0 Command: /Library/Frameworks/R.framework/Resources/bin/R CMD INSTALL rmelting StartedAt: 2025-02-19 15:03:13 -0500 (Wed, 19 Feb 2025) EndedAt: 2025-02-19 15:03:21 -0500 (Wed, 19 Feb 2025) EllapsedTime: 8.0 seconds RetCode: 0 Status: OK