Package: rifiComparative Version: 1.7.0 Command: /home/biocbuild/bbs-3.21-bioc/R/bin/R CMD INSTALL rifiComparative StartedAt: 2025-02-20 15:41:37 -0500 (Thu, 20 Feb 2025) EndedAt: 2025-02-20 15:42:10 -0500 (Thu, 20 Feb 2025) EllapsedTime: 33.7 seconds RetCode: 0 Status: OK