Package: rifi Version: 1.11.0 Command: /home/biocbuild/bbs-3.21-bioc/R/bin/R CMD INSTALL rifi StartedAt: 2025-02-19 15:26:35 -0500 (Wed, 19 Feb 2025) EndedAt: 2025-02-19 15:27:13 -0500 (Wed, 19 Feb 2025) EllapsedTime: 38.6 seconds RetCode: 0 Status: OK