Package: rifi Version: 1.11.0 Command: rm -rf rifi.buildbin-libdir && mkdir rifi.buildbin-libdir && /Users/biocbuild/BBS/utils/build-universal.sh rifi_1.11.0.tar.gz /Library/Frameworks/R.framework/Resources/bin/R rifi.buildbin-libdir StartedAt: 2025-02-19 22:35:31 -0500 (Wed, 19 Feb 2025) EndedAt: 2025-02-19 22:35:48 -0500 (Wed, 19 Feb 2025) EllapsedTime: 17.3 seconds RetCode: 0 Status: OK PackageFile: rifi_1.11.0.tgz PackageFileSize: 4.762 MiB