Package: ribosomeProfilingQC Version: 1.19.2 Command: E:\biocbuild\bbs-3.21-bioc\R\bin\R.exe CMD INSTALL ribosomeProfilingQC StartedAt: 2025-02-18 16:46:00 -0500 (Tue, 18 Feb 2025) EndedAt: 2025-02-18 16:48:05 -0500 (Tue, 18 Feb 2025) EllapsedTime: 124.6 seconds RetCode: 0 Status: OK