Package: ribosomeProfilingQC Version: 1.19.2 Command: /home/biocbuild/bbs-3.21-bioc/R/bin/R CMD INSTALL ribosomeProfilingQC StartedAt: 2025-02-18 15:50:21 -0500 (Tue, 18 Feb 2025) EndedAt: 2025-02-18 15:51:14 -0500 (Tue, 18 Feb 2025) EllapsedTime: 53.3 seconds RetCode: 0 Status: OK