Package: ribosomeProfilingQC Version: 1.19.2 Command: /Library/Frameworks/R.framework/Resources/bin/R CMD check --install=check:ribosomeProfilingQC.install-out.txt --library=/Library/Frameworks/R.framework/Resources/library --no-vignettes --timings ribosomeProfilingQC_1.19.2.tar.gz StartedAt: 2025-02-18 22:41:30 -0500 (Tue, 18 Feb 2025) EndedAt: 2025-02-18 22:50:40 -0500 (Tue, 18 Feb 2025) EllapsedTime: 549.9 seconds RetCode: 0 Status: OK CheckDir: ribosomeProfilingQC.Rcheck Warnings: 0