Package: ribosomeProfilingQC Version: 1.19.2 Command: /Library/Frameworks/R.framework/Resources/bin/R CMD build --keep-empty-dirs --no-resave-data ribosomeProfilingQC StartedAt: 2025-02-18 17:26:38 -0500 (Tue, 18 Feb 2025) EndedAt: 2025-02-18 17:28:28 -0500 (Tue, 18 Feb 2025) EllapsedTime: 110.2 seconds RetCode: 0 Status: OK PackageFile: ribosomeProfilingQC_1.19.2.tar.gz PackageFileSize: 3.396 MiB