Package: ribor Version: 1.19.0 Command: E:\biocbuild\bbs-3.21-bioc\R\bin\R.exe CMD check --no-multiarch --install=check:ribor.install-out.txt --library=E:\biocbuild\bbs-3.21-bioc\R\library --no-vignettes --timings ribor_1.19.0.tar.gz StartedAt: 2025-02-21 05:00:53 -0500 (Fri, 21 Feb 2025) EndedAt: 2025-02-21 05:02:47 -0500 (Fri, 21 Feb 2025) EllapsedTime: 114.2 seconds RetCode: 0 Status: OK CheckDir: ribor.Rcheck Warnings: 0