Package: ribor Version: 1.19.0 Command: rm -rf ribor.buildbin-libdir && mkdir ribor.buildbin-libdir && E:\biocbuild\bbs-3.21-bioc\R\bin\R.exe CMD INSTALL --build --library=ribor.buildbin-libdir ribor_1.19.0.tar.gz StartedAt: 2025-02-21 08:55:36 -0500 (Fri, 21 Feb 2025) EndedAt: 2025-02-21 08:56:09 -0500 (Fri, 21 Feb 2025) EllapsedTime: 33.5 seconds RetCode: 0 Status: OK PackageFile: ribor_1.19.0.zip PackageFileSize: 4.088 MiB