Package: ribor Version: 1.19.0 Command: /Library/Frameworks/R.framework/Resources/bin/R CMD check --install=check:ribor.install-out.txt --library=/Library/Frameworks/R.framework/Resources/library --no-vignettes --timings ribor_1.19.0.tar.gz StartedAt: 2025-02-20 21:01:39 -0500 (Thu, 20 Feb 2025) EndedAt: 2025-02-20 21:02:18 -0500 (Thu, 20 Feb 2025) EllapsedTime: 39.5 seconds RetCode: 0 Status: OK CheckDir: ribor.Rcheck Warnings: 0