Package: riboSeqR Version: 1.41.0 Command: E:\biocbuild\bbs-3.21-bioc\R\bin\R.exe CMD INSTALL riboSeqR StartedAt: 2025-02-18 15:51:12 -0500 (Tue, 18 Feb 2025) EndedAt: 2025-02-18 15:51:55 -0500 (Tue, 18 Feb 2025) EllapsedTime: 42.6 seconds RetCode: 0 Status: OK