Package: riboSeqR Version: 1.41.0 Command: chmod a+r riboSeqR -R && E:\biocbuild\bbs-3.21-bioc\R\bin\R.exe CMD build --keep-empty-dirs --no-resave-data riboSeqR StartedAt: 2025-02-18 21:08:31 -0500 (Tue, 18 Feb 2025) EndedAt: 2025-02-18 21:09:20 -0500 (Tue, 18 Feb 2025) EllapsedTime: 49.8 seconds RetCode: 0 Status: OK PackageFile: riboSeqR_1.41.0.tar.gz PackageFileSize: 3.65 MiB