Package: riboSeqR Version: 1.41.0 Command: /home/biocbuild/R/R/bin/R CMD INSTALL riboSeqR StartedAt: 2025-01-29 19:58:17 -0000 (Wed, 29 Jan 2025) EndedAt: 2025-01-29 19:58:36 -0000 (Wed, 29 Jan 2025) EllapsedTime: 19.3 seconds RetCode: 0 Status: OK