Package: riboSeqR Version: 1.41.0 Command: /Library/Frameworks/R.framework/Resources/bin/R CMD INSTALL riboSeqR StartedAt: 2025-02-18 15:12:16 -0500 (Tue, 18 Feb 2025) EndedAt: 2025-02-18 15:12:21 -0500 (Tue, 18 Feb 2025) EllapsedTime: 5.4 seconds RetCode: 0 Status: OK