Package: riboSeqR Version: 1.41.0 Command: /Library/Frameworks/R.framework/Resources/bin/R CMD check --install=check:riboSeqR.install-out.txt --library=/Library/Frameworks/R.framework/Resources/library --no-vignettes --timings riboSeqR_1.41.0.tar.gz StartedAt: 2025-02-18 21:05:42 -0500 (Tue, 18 Feb 2025) EndedAt: 2025-02-18 21:06:25 -0500 (Tue, 18 Feb 2025) EllapsedTime: 43.5 seconds RetCode: 0 Status: OK CheckDir: riboSeqR.Rcheck Warnings: 0