Package: riboSeqR Version: 1.41.0 Command: rm -rf riboSeqR.buildbin-libdir && mkdir riboSeqR.buildbin-libdir && /Users/biocbuild/BBS/utils/build-universal.sh riboSeqR_1.41.0.tar.gz /Library/Frameworks/R.framework/Resources/bin/R riboSeqR.buildbin-libdir StartedAt: 2025-02-18 22:35:02 -0500 (Tue, 18 Feb 2025) EndedAt: 2025-02-18 22:35:09 -0500 (Tue, 18 Feb 2025) EllapsedTime: 7.1 seconds RetCode: 0 Status: OK PackageFile: riboSeqR_1.41.0.tgz PackageFileSize: 3.949 MiB