Package: rhdf5client Version: 1.29.0 Command: /home/biocbuild/bbs-3.21-bioc/R/bin/R CMD check --install=check:rhdf5client.install-out.txt --library=/home/biocbuild/bbs-3.21-bioc/R/site-library --timings rhdf5client_1.29.0.tar.gz StartedAt: 2025-02-21 01:12:15 -0500 (Fri, 21 Feb 2025) EndedAt: 2025-02-21 01:14:33 -0500 (Fri, 21 Feb 2025) EllapsedTime: 138.3 seconds RetCode: 0 Status: OK CheckDir: rhdf5client.Rcheck Warnings: 0