Package: rhdf5client Version: 1.29.0 Command: rm -rf rhdf5client.buildbin-libdir && mkdir rhdf5client.buildbin-libdir && /Users/biocbuild/BBS/utils/build-universal.sh rhdf5client_1.29.0.tar.gz /Library/Frameworks/R.framework/Resources/bin/R rhdf5client.buildbin-libdir StartedAt: 2025-02-20 22:32:04 -0500 (Thu, 20 Feb 2025) EndedAt: 2025-02-20 22:32:13 -0500 (Thu, 20 Feb 2025) EllapsedTime: 9.2 seconds RetCode: 0 Status: OK PackageFile: rhdf5client_1.29.0.tgz PackageFileSize: 981.6 KiB