Package: rhdf5 Version: 2.51.2 Command: chmod a+r rhdf5 -R && E:\biocbuild\bbs-3.21-bioc\R\bin\R.exe CMD build --keep-empty-dirs --no-resave-data rhdf5 StartedAt: 2025-02-20 21:16:03 -0500 (Thu, 20 Feb 2025) EndedAt: 2025-02-20 21:20:39 -0500 (Thu, 20 Feb 2025) EllapsedTime: 276.1 seconds RetCode: 0 Status: OK PackageFile: rhdf5_2.51.2.tar.gz PackageFileSize: 1.2 MiB