Package: rhdf5 Version: 2.51.2 Command: rm -rf rhdf5.buildbin-libdir && mkdir rhdf5.buildbin-libdir && E:\biocbuild\bbs-3.21-bioc\R\bin\R.exe CMD INSTALL --build --library=rhdf5.buildbin-libdir rhdf5_2.51.2.tar.gz StartedAt: 2025-02-21 08:54:54 -0500 (Fri, 21 Feb 2025) EndedAt: 2025-02-21 08:56:18 -0500 (Fri, 21 Feb 2025) EllapsedTime: 83.2 seconds RetCode: 0 Status: OK PackageFile: rhdf5_2.51.2.zip PackageFileSize: 4.368 MiB