Package: rhdf5 Version: 2.51.2 Command: /home/biocbuild/bbs-3.21-bioc/R/bin/R CMD INSTALL rhdf5 StartedAt: 2025-02-20 15:05:31 -0500 (Thu, 20 Feb 2025) EndedAt: 2025-02-20 15:05:43 -0500 (Thu, 20 Feb 2025) EllapsedTime: 11.6 seconds RetCode: 0 Status: OK