Package: rhdf5 Version: 2.51.2 Command: /home/biocbuild/bbs-3.21-bioc/R/bin/R CMD check --install=check:rhdf5.install-out.txt --library=/home/biocbuild/bbs-3.21-bioc/R/site-library --timings rhdf5_2.51.2.tar.gz StartedAt: 2025-02-21 01:12:08 -0500 (Fri, 21 Feb 2025) EndedAt: 2025-02-21 01:18:07 -0500 (Fri, 21 Feb 2025) EllapsedTime: 358.7 seconds RetCode: 0 Status: WARNINGS CheckDir: rhdf5.Rcheck Warnings: 1