Package: rhdf5 Version: 2.51.2 Command: /home/biocbuild/bbs-3.21-bioc/R/bin/R CMD build --keep-empty-dirs --no-resave-data rhdf5 StartedAt: 2025-02-20 18:57:24 -0500 (Thu, 20 Feb 2025) EndedAt: 2025-02-20 19:02:48 -0500 (Thu, 20 Feb 2025) EllapsedTime: 324.4 seconds RetCode: 0 Status: OK PackageFile: rhdf5_2.51.2.tar.gz PackageFileSize: 1.238 MiB