Package: rhdf5 Version: 2.51.2 Command: /Library/Frameworks/R.framework/Resources/bin/R CMD INSTALL rhdf5 StartedAt: 2025-02-20 15:09:57 -0500 (Thu, 20 Feb 2025) EndedAt: 2025-02-20 15:10:20 -0500 (Thu, 20 Feb 2025) EllapsedTime: 23.2 seconds RetCode: 0 Status: OK