Package: rhdf5 Version: 2.51.2 Command: /Library/Frameworks/R.framework/Resources/bin/R CMD check --install=check:rhdf5.install-out.txt --library=/Library/Frameworks/R.framework/Resources/library --no-vignettes --timings rhdf5_2.51.2.tar.gz StartedAt: 2025-02-20 22:45:37 -0500 (Thu, 20 Feb 2025) EndedAt: 2025-02-20 22:46:36 -0500 (Thu, 20 Feb 2025) EllapsedTime: 58.6 seconds RetCode: 0 Status: WARNINGS CheckDir: rhdf5.Rcheck Warnings: 1