Package: rhdf5 Version: 2.51.2 Command: rm -rf rhdf5.buildbin-libdir && mkdir rhdf5.buildbin-libdir && /Users/biocbuild/BBS/utils/build-universal.sh rhdf5_2.51.2.tar.gz /Library/Frameworks/R.framework/Resources/bin/R rhdf5.buildbin-libdir StartedAt: 2025-02-20 22:32:03 -0500 (Thu, 20 Feb 2025) EndedAt: 2025-02-20 22:32:11 -0500 (Thu, 20 Feb 2025) EllapsedTime: 8.1 seconds RetCode: 0 Status: OK PackageFile: rhdf5_2.51.2.tgz PackageFileSize: 4.552 MiB