Package: rgoslin Version: 1.11.0 Command: E:\biocbuild\bbs-3.21-bioc\R\bin\R.exe CMD check --no-multiarch --install=check:rgoslin.install-out.txt --library=E:\biocbuild\bbs-3.21-bioc\R\library --no-vignettes --timings rgoslin_1.11.0.tar.gz StartedAt: 2025-02-19 04:34:15 -0500 (Wed, 19 Feb 2025) EndedAt: 2025-02-19 04:35:13 -0500 (Wed, 19 Feb 2025) EllapsedTime: 58.2 seconds RetCode: 0 Status: OK CheckDir: rgoslin.Rcheck Warnings: 0