Package: rgoslin Version: 1.11.0 Command: /home/biocbuild/bbs-3.21-bioc/R/bin/R CMD check --install=check:rgoslin.install-out.txt --library=/home/biocbuild/bbs-3.21-bioc/R/site-library --timings rgoslin_1.11.0.tar.gz StartedAt: 2025-02-19 01:29:11 -0500 (Wed, 19 Feb 2025) EndedAt: 2025-02-19 01:29:51 -0500 (Wed, 19 Feb 2025) EllapsedTime: 40.1 seconds RetCode: 0 Status: OK CheckDir: rgoslin.Rcheck Warnings: 0