Package: rgoslin Version: 1.11.0 Command: /home/biocbuild/bbs-3.21-bioc/R/bin/R CMD build --keep-empty-dirs --no-resave-data rgoslin StartedAt: 2025-02-18 18:46:22 -0500 (Tue, 18 Feb 2025) EndedAt: 2025-02-18 18:49:21 -0500 (Tue, 18 Feb 2025) EllapsedTime: 179.2 seconds RetCode: 0 Status: OK PackageFile: rgoslin_1.11.0.tar.gz PackageFileSize: 730.6 KiB