Package: rfaRm Version: 1.19.0 Command: /home/biocbuild/bbs-3.21-bioc/R/bin/R CMD INSTALL rfaRm StartedAt: 2025-02-20 15:46:45 -0500 (Thu, 20 Feb 2025) EndedAt: 2025-02-20 15:46:57 -0500 (Thu, 20 Feb 2025) EllapsedTime: 12.1 seconds RetCode: 0 Status: OK