Package: rfaRm Version: 1.19.0 Command: /Library/Frameworks/R.framework/Resources/bin/R CMD build --keep-empty-dirs --no-resave-data rfaRm StartedAt: 2025-02-20 17:58:54 -0500 (Thu, 20 Feb 2025) EndedAt: 2025-02-20 17:59:43 -0500 (Thu, 20 Feb 2025) EllapsedTime: 49.3 seconds RetCode: 0 Status: OK PackageFile: rfaRm_1.19.0.tar.gz PackageFileSize: 560.9 KiB