Package: rfaRm Version: 1.19.0 Command: /Library/Frameworks/R.framework/Resources/bin/R CMD INSTALL rfaRm StartedAt: 2025-02-19 15:26:23 -0500 (Wed, 19 Feb 2025) EndedAt: 2025-02-19 15:26:28 -0500 (Wed, 19 Feb 2025) EllapsedTime: 5.4 seconds RetCode: 0 Status: OK