Package: rfaRm Version: 1.19.0 Command: /Library/Frameworks/R.framework/Resources/bin/R CMD check --install=check:rfaRm.install-out.txt --library=/Library/Frameworks/R.framework/Resources/library --no-vignettes --timings rfaRm_1.19.0.tar.gz StartedAt: 2025-02-19 21:03:20 -0500 (Wed, 19 Feb 2025) EndedAt: 2025-02-19 21:04:44 -0500 (Wed, 19 Feb 2025) EllapsedTime: 84.1 seconds RetCode: 0 Status: OK CheckDir: rfaRm.Rcheck Warnings: 0