Package: rfaRm Version: 1.19.0 Command: /Library/Frameworks/R.framework/Resources/bin/R CMD build --keep-empty-dirs --no-resave-data rfaRm StartedAt: 2025-02-19 17:24:12 -0500 (Wed, 19 Feb 2025) EndedAt: 2025-02-19 17:24:47 -0500 (Wed, 19 Feb 2025) EllapsedTime: 34.4 seconds RetCode: 0 Status: OK PackageFile: rfaRm_1.19.0.tar.gz PackageFileSize: 561.2 KiB