Package: rfPred Version: 1.45.0 Command: /Library/Frameworks/R.framework/Resources/bin/R CMD build --keep-empty-dirs --no-resave-data rfPred StartedAt: 2025-02-18 17:56:59 -0500 (Tue, 18 Feb 2025) EndedAt: 2025-02-18 17:57:23 -0500 (Tue, 18 Feb 2025) EllapsedTime: 24.1 seconds RetCode: 0 Status: OK PackageFile: rfPred_1.45.0.tar.gz PackageFileSize: 1.053 MiB