Package: rfPred Version: 1.45.0 Command: /Library/Frameworks/R.framework/Resources/bin/R CMD build --keep-empty-dirs --no-resave-data rfPred StartedAt: 2025-02-18 17:25:09 -0500 (Tue, 18 Feb 2025) EndedAt: 2025-02-18 17:25:18 -0500 (Tue, 18 Feb 2025) EllapsedTime: 9.1 seconds RetCode: 0 Status: OK PackageFile: rfPred_1.45.0.tar.gz PackageFileSize: 1.053 MiB