Package: rexposome Version: 1.29.0 Command: chmod a+r rexposome -R && E:\biocbuild\bbs-3.21-bioc\R\bin\R.exe CMD build --keep-empty-dirs --no-resave-data rexposome StartedAt: 2025-02-18 21:05:16 -0500 (Tue, 18 Feb 2025) EndedAt: 2025-02-18 21:08:57 -0500 (Tue, 18 Feb 2025) EllapsedTime: 221.2 seconds RetCode: 0 Status: OK PackageFile: rexposome_1.29.0.tar.gz PackageFileSize: 5.514 MiB