Package: rexposome Version: 1.29.0 Command: /Library/Frameworks/R.framework/Resources/bin/R CMD INSTALL rexposome StartedAt: 2025-02-17 15:37:00 -0500 (Mon, 17 Feb 2025) EndedAt: 2025-02-17 15:37:30 -0500 (Mon, 17 Feb 2025) EllapsedTime: 29.9 seconds RetCode: 0 Status: OK