Package: rexposome Version: 1.29.0 Command: /Library/Frameworks/R.framework/Resources/bin/R CMD check --install=check:rexposome.install-out.txt --library=/Library/Frameworks/R.framework/Resources/library --no-vignettes --timings rexposome_1.29.0.tar.gz StartedAt: 2025-02-17 22:38:58 -0500 (Mon, 17 Feb 2025) EndedAt: 2025-02-17 22:42:00 -0500 (Mon, 17 Feb 2025) EllapsedTime: 181.5 seconds RetCode: 0 Status: WARNINGS CheckDir: rexposome.Rcheck Warnings: 5