Package: rexposome Version: 1.29.0 Command: /Library/Frameworks/R.framework/Resources/bin/R CMD INSTALL rexposome StartedAt: 2025-02-17 15:24:07 -0500 (Mon, 17 Feb 2025) EndedAt: 2025-02-17 15:24:15 -0500 (Mon, 17 Feb 2025) EllapsedTime: 8.2 seconds RetCode: 0 Status: OK