Package: rexposome Version: 1.29.0 Command: /Library/Frameworks/R.framework/Resources/bin/R CMD check --install=check:rexposome.install-out.txt --library=/Library/Frameworks/R.framework/Resources/library --no-vignettes --timings rexposome_1.29.0.tar.gz StartedAt: 2025-02-17 20:59:15 -0500 (Mon, 17 Feb 2025) EndedAt: 2025-02-17 21:00:14 -0500 (Mon, 17 Feb 2025) EllapsedTime: 59.7 seconds RetCode: 0 Status: WARNINGS CheckDir: rexposome.Rcheck Warnings: 5