Package: rexposome Version: 1.29.0 Command: /Library/Frameworks/R.framework/Resources/bin/R CMD build --keep-empty-dirs --no-resave-data rexposome StartedAt: 2025-02-17 17:21:46 -0500 (Mon, 17 Feb 2025) EndedAt: 2025-02-17 17:22:18 -0500 (Mon, 17 Feb 2025) EllapsedTime: 32.4 seconds RetCode: 0 Status: OK PackageFile: rexposome_1.29.0.tar.gz PackageFileSize: 8.652 MiB