Package: rexposome Version: 1.29.0 Command: rm -rf rexposome.buildbin-libdir && mkdir rexposome.buildbin-libdir && /Users/biocbuild/BBS/utils/build-universal.sh rexposome_1.29.0.tar.gz /Library/Frameworks/R.framework/Resources/bin/R rexposome.buildbin-libdir StartedAt: 2025-02-17 22:30:22 -0500 (Mon, 17 Feb 2025) EndedAt: 2025-02-17 22:30:33 -0500 (Mon, 17 Feb 2025) EllapsedTime: 10.2 seconds RetCode: 0 Status: OK PackageFile: rexposome_1.29.0.tgz PackageFileSize: 9.157 MiB