Package: retrofit Version: 1.7.0 Command: /home/biocbuild/R/R/bin/R CMD INSTALL retrofit StartedAt: 2025-01-29 19:31:04 -0000 (Wed, 29 Jan 2025) EndedAt: 2025-01-29 19:31:41 -0000 (Wed, 29 Jan 2025) EllapsedTime: 36.6 seconds RetCode: 0 Status: OK