Package: regutools Version: 1.19.0 Command: chmod a+r regutools -R && E:\biocbuild\bbs-3.21-bioc\R\bin\R.exe CMD build --keep-empty-dirs --no-resave-data regutools StartedAt: 2025-02-20 21:12:04 -0500 (Thu, 20 Feb 2025) EndedAt: 2025-02-20 21:14:22 -0500 (Thu, 20 Feb 2025) EllapsedTime: 137.7 seconds RetCode: 0 Status: OK PackageFile: regutools_1.19.0.tar.gz PackageFileSize: 359.9 KiB