Package: regutools Version: 1.19.0 Command: /home/biocbuild/bbs-3.21-bioc/R/bin/R CMD check --install=check:regutools.install-out.txt --library=/home/biocbuild/bbs-3.21-bioc/R/site-library --timings regutools_1.19.0.tar.gz StartedAt: 2025-02-20 01:40:58 -0500 (Thu, 20 Feb 2025) EndedAt: 2025-02-20 01:49:46 -0500 (Thu, 20 Feb 2025) EllapsedTime: 527.9 seconds RetCode: 0 Status: OK CheckDir: regutools.Rcheck Warnings: 0