Package: regutools Version: 1.19.0 Command: rm -rf regutools.buildbin-libdir && mkdir regutools.buildbin-libdir && /Users/biocbuild/BBS/utils/build-universal.sh regutools_1.19.0.tar.gz /Library/Frameworks/R.framework/Resources/bin/R regutools.buildbin-libdir StartedAt: 2025-02-21 00:48:20 -0500 (Fri, 21 Feb 2025) EndedAt: 2025-02-21 00:49:34 -0500 (Fri, 21 Feb 2025) EllapsedTime: 73.8 seconds RetCode: 0 Status: OK PackageFile: regutools_1.19.0.tgz PackageFileSize: 946 KiB