Package: regsplice Version: 1.33.0 Command: E:\biocbuild\bbs-3.21-bioc\R\bin\R.exe CMD INSTALL regsplice StartedAt: 2025-02-17 16:09:38 -0500 (Mon, 17 Feb 2025) EndedAt: 2025-02-17 16:10:09 -0500 (Mon, 17 Feb 2025) EllapsedTime: 31.3 seconds RetCode: 0 Status: OK